BEGIN:VCALENDAR
VERSION:2.0
PRODID:-//Squarespace Inc/Squarespace 6//v6//EN
BEGIN:VEVENT
UID:6046fb4fce1bb26528f4949c@squarespace.com
DTSTAMP:20210309T044748Z
DTSTART:20210321T173000Z
DTEND:20210321T183000Z
SUMMARY:Catholic Social Teaching: Introduction
GEO:40.720756;-74.000761
LOCATION:American Solidarity Party of Utah\, Salt Lake City\, UT
END:VEVENT
END:VCALENDAR
