BEGIN:VCALENDAR
VERSION:2.0
PRODID:-//Squarespace Inc/Squarespace 6//v6//EN
BEGIN:VEVENT
UID:600b012eb1a2c44c7d649522@squarespace.com
DTSTAMP:20210122T165734Z
DTSTART:20210212T230000Z
DTEND:20210213T000000Z
SUMMARY:Citizens' Climate Lobby SLC Zoom Monthly Meetings
GEO:40.720756;-74.000761
LOCATION:American Solidarity Party of Utah\, Salt Lake City\, UT
END:VEVENT
END:VCALENDAR
