BEGIN:VCALENDAR
VERSION:2.0
PRODID:-//Squarespace Inc/Squarespace 6//v6//EN
BEGIN:VEVENT
UID:600b0a150d191b1c0162183d@squarespace.com
DTSTAMP:20210122T174811Z
DTSTART:20210321T000000Z
DTEND:20210321T020000Z
SUMMARY:Utah Solidarity State Committee Meeting March 20 2021
GEO:40.720756;-74.000761
LOCATION:American Solidarity Party of Utah\, Salt Lake City\, UT
END:VEVENT
END:VCALENDAR
