BEGIN:VCALENDAR
VERSION:2.0
PRODID:-//Squarespace Inc/Squarespace 6//v6//EN
BEGIN:VEVENT
UID:60022ab9f3d9ba77658bc958@squarespace.com
DTSTAMP:20210115T235728Z
DTSTART:20210320T060000Z
DTEND:20210321T050000Z
SUMMARY:Feed Utah
GEO:39.32098;-111.093731
LOCATION:Utah
END:VEVENT
END:VCALENDAR
