BEGIN:VCALENDAR
VERSION:2.0
PRODID:-//Squarespace Inc/Squarespace 6//v6//EN
BEGIN:VEVENT
UID:61f1ac1a387160389009978d@squarespace.com
DTSTAMP:20220218T230333Z
DTSTART:20220219T170000Z
DTEND:20220219T180000Z
SUMMARY:February 19th Utah State Committee Meeting 
GEO:40.760779;-111.891047
LOCATION:American Solidarity Party of Utah\, Salt Lake City\, UT
END:VEVENT
END:VCALENDAR
