BEGIN:VCALENDAR
VERSION:2.0
PRODID:-//Squarespace Inc/Squarespace 6//v6//EN
BEGIN:VEVENT
UID:61ccfa62025ee847d4ff2dda@squarespace.com
DTSTAMP:20220126T201626Z
DTSTART:20220116T003000Z
DTEND:20220116T013000Z
SUMMARY:January 15th Utah State Committee Meeting
GEO:40.760779;-111.891047
LOCATION:American Solidarity Party of Utah\, Salt Lake City\, UT
END:VEVENT
END:VCALENDAR
