BEGIN:VCALENDAR
VERSION:2.0
PRODID:-//Squarespace Inc/Squarespace 6//v6//EN
BEGIN:VEVENT
UID:60022350447a11307300edd5@squarespace.com
DTSTAMP:20210115T232633Z
DTSTART:20210117T010000Z
DTEND:20210117T030000Z
SUMMARY:Utah Solidarity State Committee Meeting 
END:VEVENT
END:VCALENDAR
