BEGIN:VCALENDAR
VERSION:2.0
PRODID:-//Squarespace Inc/Squarespace 6//v6//EN
BEGIN:VEVENT
UID:62a7f2cc59e6cc111c9bcbea@squarespace.com
DTSTAMP:20220614T023918Z
DTSTART:20220615T010000Z
DTEND:20220615T020000Z
SUMMARY:June 14th Utah State Committee Meeting
GEO:40.720756;-74.000761
LOCATION:American Solidarity Party of Utah\, Salt Lake City\, UT
END:VEVENT
END:VCALENDAR
