BEGIN:VCALENDAR
VERSION:2.0
PRODID:-//Squarespace Inc/Squarespace 6//v6//EN
BEGIN:VEVENT
UID:600225de9bd0a71076de3121@squarespace.com
DTSTAMP:20210115T234922Z
DTSTART:20210130T160000Z
DTEND:20210130T180000Z
SUMMARY:March for Life Car Parade January 30 2021 
GEO:40.777407;-111.888289
LOCATION:Utah State Capitol Building\, 350 State St\, Salt Lake City\, UT 8
 4103\, Salt Lake
END:VEVENT
END:VCALENDAR
