BEGIN:VCALENDAR
VERSION:2.0
PRODID:-//Squarespace Inc/Squarespace 6//v6//EN
BEGIN:VEVENT
UID:61ca407b776f7909e6bddd9a@squarespace.com
DTSTAMP:20211227T224714Z
DTSTART:20220122T180000Z
DTEND:20220122T210000Z
SUMMARY:March for Life Utah 2022
GEO:40.761619;-111.888625
LOCATION:Utah State Capitol\, 350 State St\, Salt Lake City\, UT
END:VEVENT
END:VCALENDAR
