BEGIN:VCALENDAR
VERSION:2.0
PRODID:-//Squarespace Inc/Squarespace 6//v6//EN
BEGIN:VEVENT
UID:629185f7a4f264257d8a92f0@squarespace.com
DTSTAMP:20220528T022254Z
DTSTART:20220528T160000Z
DTEND:20220528T180000Z
SUMMARY:State Nominating Convention on May 28th 2022
GEO:40.720756;-74.000761
LOCATION:American Solidarity Party of Utah\, Salt Lake City\, UT
END:VEVENT
END:VCALENDAR
