BEGIN:VCALENDAR
VERSION:2.0
PRODID:-//Squarespace Inc/Squarespace 6//v6//EN
BEGIN:VEVENT
UID:600224baa2603d40bc0485bc@squarespace.com
DTSTAMP:20210115T233100Z
DTSTART:20210123T073000Z
DTEND:20210124T063000Z
SUMMARY:Rank Choice Voting Day
END:VEVENT
END:VCALENDAR
