BEGIN:VCALENDAR
VERSION:2.0
PRODID:-//Squarespace Inc/Squarespace 6//v6//EN
BEGIN:VEVENT
UID:61a8fe1c314b340303c8b3bc@squarespace.com
DTSTAMP:20211204T070611Z
DTSTART:20211229T010000Z
DTEND:20211229T040000Z
SUMMARY:Utah Solidarity Party 2021 State Convention
GEO:37.096528;-113.568416
LOCATION:American Solidarity Party of Utah\, St George\, UT
END:VEVENT
END:VCALENDAR
