BEGIN:VCALENDAR
VERSION:2.0
PRODID:-//Squarespace Inc/Squarespace 6//v6//EN
BEGIN:VEVENT
UID:61f1adbdaea878708cf5d439@squarespace.com
DTSTAMP:20220126T203028Z
DTSTART:20220208T170000Z
DTEND:20220208T210000Z
SUMMARY:Voter Registration Drive at the University of Utah on February 8th 
 with Utah Approves
GEO:40.765019;-111.846112
LOCATION:A. Ray Olpin Student Union\, 200 Central Campus Drive\, Salt Lake 
 City\, UT\, 84112\, United States
END:VEVENT
END:VCALENDAR
